BEGIN:VCALENDAR
VERSION:2.0
PRODID:-//fibre space - ECPv6.15.20//NONSGML v1.0//EN
CALSCALE:GREGORIAN
METHOD:PUBLISH
X-WR-CALNAME:fibre space
X-ORIGINAL-URL:https://fibrespace.com
X-WR-CALDESC:Events for fibre space
REFRESH-INTERVAL;VALUE=DURATION:PT1H
X-Robots-Tag:noindex
X-PUBLISHED-TTL:PT1H
BEGIN:VTIMEZONE
TZID:America/New_York
BEGIN:DAYLIGHT
TZOFFSETFROM:-0500
TZOFFSETTO:-0400
TZNAME:EDT
DTSTART:20250309T070000
END:DAYLIGHT
BEGIN:STANDARD
TZOFFSETFROM:-0400
TZOFFSETTO:-0500
TZNAME:EST
DTSTART:20251102T060000
END:STANDARD
BEGIN:DAYLIGHT
TZOFFSETFROM:-0500
TZOFFSETTO:-0400
TZNAME:EDT
DTSTART:20260308T070000
END:DAYLIGHT
BEGIN:STANDARD
TZOFFSETFROM:-0400
TZOFFSETTO:-0500
TZNAME:EST
DTSTART:20261101T060000
END:STANDARD
BEGIN:DAYLIGHT
TZOFFSETFROM:-0500
TZOFFSETTO:-0400
TZNAME:EDT
DTSTART:20270314T070000
END:DAYLIGHT
BEGIN:STANDARD
TZOFFSETFROM:-0400
TZOFFSETTO:-0500
TZNAME:EST
DTSTART:20271107T060000
END:STANDARD
END:VTIMEZONE
BEGIN:VEVENT
DTSTART;TZID=America/New_York:20260124T103000
DTEND;TZID=America/New_York:20260124T123000
DTSTAMP:20260420T173202
CREATED:20251231T183500Z
LAST-MODIFIED:20251231T183500Z
UID:10002664-1769250600-1769257800@fibrespace.com
SUMMARY:Sock Clinic
DESCRIPTION:Interested in delving into the wild world of socks? Or maybe you want to learn a new heel technique or knit a sock from a different direction (top down or toe up!). This class is all about exploring the different ways to make a sock. We’ll talk about how to measure your foot\, what kind of fibers work best for socks\, and the different styles of small-circumference knitting. We’ll also explore different types of heels and toes. First-time sock knitters or those looking to explore magic loop or flexible double-pointed needles for the first time can choose a classic top-down sock like I’m So Basic Socks\, or one with just enough texture to keep things interesting. Looking to explore the world of toe-up socks? DRK Everyday Socks are for you if you like a dependable ribbed sock\, or Socks on a Plane if you want to throw a simple cable in. For more adventurous sock knitters\, there’s adding colors with Curio Socks. \n3 two-hour sessions \nSkills Needed:\n\nKnitting and purling\nWorking in the round\nIncreasing and decreasing\n\nSkills Learned:\n\nSmall circumference knitting\nMagic loop or flexible double-pointed needles\nAfterthought heel or wrap and turn\n\n  \nI’m So Basic Socks\n© Summer Lee\nSizes:\n\nS (7″ or 17.75cm) M (8″ or 20.25cm) L (9″ or 23cm) XL (10″ or 25.5cm)\, measuring the circumference around the ball of the foot \n\nMaterials:\n\nOne skein of sock yarn (approximately 400 yards\, though you will not use the entire skein!)\nOne mini skein or scrap ball of sock yarn (approximately 50 yards) for the contrasting cuff\, heels\, and toes\nUS#1 (2.25mm) needles (can be double points\, flexible double points\, or 40” circular needle)\nA tapestry needle for weaving in ends\nPattern: I’m So Basic Socks\n\n  \nDRK Everyday Sock\n© Andrea Mowry\nSizes:\n\n4.25 (5.25\, 5.25\, 6\, 6)(6\, 7\, 8)7\, 8\, 9” unstretched foot circumference\n\nMaterials:\n\nFingering weight yarn 84 (139\, 199\, 225\, 288)(298\, 361\, 430)383\, 454\, 530 yards\nNeedles: US 1/2.25 mm – 32”/80 cm circular for Magic Loop (can use double-pointed needles or flexible double-pointed needles)\nNotions: Removable/clip marker\, tapestry needle\, row counter (recommended) and scissors.\nPattern: DRK Everyday Socks\n\n  \nCurio Socks\n© Andrea Mowry\nSizes:\n\nFoot circumference: 4.5 (5.5\, 5.5\, 6.5\, 6.5)(6.5\, 7.5\, 8.5)7.5\, 8.5\, 9.5”\n\nMaterials:\n\nFingering weight yarn in two colors: Main Color (MC) and Contrast Color (CC)\n\nMC: 51 (84\, 121\, 136\, 175)(180\, 219\, 261)232\, 275\, 322 yards\nCC: 26 (42\, 61\, 68\, 88)(90\, 110\, 131)116\, 138\, 161 yards\n\n\nNeedles\n\nMain: US#1.5 (2.5 mm) 32”/80 cm circular for magic loop (can use double-pointed needles/flexible double-pointed needles or small circumference circular)\nRibbing: US#1 (2.25 mm) 32”/80 cm circular for Magic Loop (can use double-pointed needles/Flexible double-pointed needles or small circumference circular)\n\n\nRemovable/clip marker\nSmooth waste yarn for afterthought heel and lifelines\nTapestry needle\nRow counter (recommended)\nScissors\nPattern: Curio Sock\n\n 
URL:https://fibrespace.com/event/sock-clinic/
LOCATION:fibre space\, 1319 Prince Street\, Alexandria\, VA\, 22314\, United States
CATEGORIES:Classes
ATTACH;FMTTYPE=image/jpeg:https://fibrespace.com/wp-content/uploads/2025/12/RyeLightSocks.jpg
GEO:38.8060683;-77.0529897
X-APPLE-STRUCTURED-LOCATION;VALUE=URI;X-ADDRESS=fibre space 1319 Prince Street Alexandria VA 22314 United States;X-APPLE-RADIUS=500;X-TITLE=1319 Prince Street:geo:-77.0529897,38.8060683
END:VEVENT
BEGIN:VEVENT
DTSTART;TZID=America/New_York:20260124T103000
DTEND;TZID=America/New_York:20260124T123000
DTSTAMP:20260420T173202
CREATED:20251213T025111Z
LAST-MODIFIED:20251213T025111Z
UID:10002644-1769250600-1769257800@fibrespace.com
SUMMARY:Independent Study for Knit and Crochet
DESCRIPTION:Join our amazing designer and instructor Christina for this independent study\, where you can work on a knit or crochet skill or project.  Are you a newer stitcher looking to take on the next level? Or a seasoned maker who needs a little help turning a WIP into an FO? This group class is for you! Learn at your own pace with an instructor and supportive classmates by your side. Sign up for as many classes as you need to reach your goal. \nThis class is not for total beginners or any student under the age of 16. \n2-hour sessions\, Saturdays from 10:30 am – 12:30 pm. Grab just one or register for multiple! \nSkills needed: \n\n\nBasic knit or crochet skills are required. \n\n\nMaterials:\n\n\nPattern submitted to the instructor before class \n\n\nYarn in the quantity needed for your project (a yarnista can help you choose) \n\n\nKnitting needles or crochet hook appropriate for the project/yarn \n\n\nStitch markers; for crochet\, locking stitch markers only \n\n\nScissors/snips \n\n\nTapestry needle
URL:https://fibrespace.com/event/independent-study-for-knit-and-crochet/
LOCATION:fibre space\, 1319 Prince Street\, Alexandria\, VA\, 22314\, United States
CATEGORIES:Classes
ATTACH;FMTTYPE=image/jpeg:https://fibrespace.com/wp-content/uploads/2025/04/DSC03906.jpg
GEO:38.8060683;-77.0529897
X-APPLE-STRUCTURED-LOCATION;VALUE=URI;X-ADDRESS=fibre space 1319 Prince Street Alexandria VA 22314 United States;X-APPLE-RADIUS=500;X-TITLE=1319 Prince Street:geo:-77.0529897,38.8060683
END:VEVENT
BEGIN:VEVENT
DTSTART;TZID=America/New_York:20260122T170000
DTEND;TZID=America/New_York:20260122T210000
DTSTAMP:20260420T173202
CREATED:20251212T161801Z
LAST-MODIFIED:20260129T133349Z
UID:10002170-1769101200-1769115600@fibrespace.com
SUMMARY:Stitch in Space
DESCRIPTION:Join us in our second floor lounge space on Thursday evenings “after work” to stitch with others from our community! Grab a work in progress\, connect with other yarn lovers and even get help from the yarnistas at our help desk. We are open until 9 pm every Thursday to host this free community event. 
URL:https://fibrespace.com/event/stitch-in-space-3/2026-01-22/
LOCATION:fibre space\, 1319 Prince Street\, Alexandria\, VA\, 22314\, United States
CATEGORIES:Community Events
ATTACH;FMTTYPE=image/png:https://fibrespace.com/wp-content/uploads/2022/03/fibrespace_2022_stitchinspace-Facebook-Cover.png
GEO:38.8060683;-77.0529897
X-APPLE-STRUCTURED-LOCATION;VALUE=URI;X-ADDRESS=fibre space 1319 Prince Street Alexandria VA 22314 United States;X-APPLE-RADIUS=500;X-TITLE=1319 Prince Street:geo:-77.0529897,38.8060683
END:VEVENT
BEGIN:VEVENT
DTSTART;TZID=America/New_York:20260122T113000
DTEND;TZID=America/New_York:20260122T133000
DTSTAMP:20260420T173202
CREATED:20251213T022537Z
LAST-MODIFIED:20251213T022537Z
UID:10002638-1769081400-1769088600@fibrespace.com
SUMMARY:Knitting Independent Study
DESCRIPTION:Got a dream project you’d like to tackle? Nervous about trying a new technique or something big? Let’s do it together! This group class will allow students to bring in the project of their choice\, whether it’s a new cast on or something that’s been languishing in the WIP pile. Work through questions or tricky sections with an instructor’s guidance and your fellow knitters’ encouragement. \nSkills needed:\n\n\nBasic knit skills are required. This class is not for total beginners or any student under the age of 16.\n\nMaterials:\n\nPattern submitted to the instructor prior to class\nYarn in the quantity needed for your project (a yarnista can help you choose)\nKnitting needles appropriate for the project/yarn\nStitch markers\nScissors/snips\, tapestry needle
URL:https://fibrespace.com/event/knitting-independent-study-29/
LOCATION:fibre space\, 1319 Prince Street\, Alexandria\, VA\, 22314\, United States
CATEGORIES:Classes
ATTACH;FMTTYPE=image/jpeg:https://fibrespace.com/wp-content/uploads/2025/04/knittinghands-1.jpg
GEO:38.8060683;-77.0529897
X-APPLE-STRUCTURED-LOCATION;VALUE=URI;X-ADDRESS=fibre space 1319 Prince Street Alexandria VA 22314 United States;X-APPLE-RADIUS=500;X-TITLE=1319 Prince Street:geo:-77.0529897,38.8060683
END:VEVENT
BEGIN:VEVENT
DTSTART;TZID=America/New_York:20260121T190000
DTEND;TZID=America/New_York:20260121T210000
DTSTAMP:20260420T173202
CREATED:20251217T001856Z
LAST-MODIFIED:20251217T001856Z
UID:10002654-1769022000-1769029200@fibrespace.com
SUMMARY:Tunisian Crochet Clinic
DESCRIPTION:Explore the magic of Tunisian Crochet with this introductory class. Learn easy techniques to create a beautiful with two pattern options: the Ada Shawl for a thicker\, warmer design\, and the Harmony Shawl perfect for lighter\, warmer-weather wear. \n2 two-hour sessions  \nPick From Our Suggested Patterns: \n Ada Shawl\n \n Skills needed: \n\nChaining\nSingle Crochet\n\nSkills learned: \n\nTunisian Simple Stitch (Tss)\, \nIncreasing in Tss\nColorwork in Tss \nAdjusting tension for even edges\n\nMaterials: \n\nAran or Bulky weight yarn. \n\nFor Ada Shawl 2 colors – Color A: 215 yards\, Color B: 450 yards. \nFor Ada Shawl XL – Color A: 200 yards\, Color B: 230 yards\, Color C: 330 yards. Yarn suggestions: Manos del Uruguay Cardo\, De Rerum Natura Cyrano\, Woolfolk Luft\n\n\nSize US N/10.00mm Tunisian crochet hook\, with a 32-to-40-inch cable. (Note that hook size is a suggestion; you may want to size down to an US M/9.00mm depending on your gauge)\nScissors\, darning needle\nLocking stitch markers\nA copy of Ada Shawl Pattern\n\nPreparation: \nRead through the entire pattern. Select which size shawl you want to make. Bring all materials to class.  \n  \nHarmony Shawl\n© Aklori Designs\nSkills needed: \n\nChaining\nSingle Crochet\n\nSkills learned: \n\nTunisian Simple Stitch (Tss)\nTunisian Knit Stitch(Tks) \nIncreasing in Tss\nAdjusting tension for even edges\n\nMaterials:  \n\n650 yds of sport weight yarn. We recommend De Rerum Natura Ulysse\, Di Gilpin Lalland or WoolDreamers Cautiva \nSize US H/5.00mm Tunisian crochet hook\, with a 32-to-40-inch cable. (Note that hook size is a suggestion; you may want to size up or down depending on your gauge)\nScissors\, darning needle\nLocking stitch markers\nA copy of Harmony Shawl Pattern\n\nPreparation: \nRead through the entire pattern. Select which size shawl you want to make. Bring all materials to class.  \n 
URL:https://fibrespace.com/event/tunisian-crochet-clinic-2/
LOCATION:fibre space\, 1319 Prince Street\, Alexandria\, VA\, 22314\, United States
CATEGORIES:Classes
ATTACH;FMTTYPE=image/png:https://fibrespace.com/wp-content/uploads/2017/02/c8-tunisian-crochet-basics.png
GEO:38.8060683;-77.0529897
X-APPLE-STRUCTURED-LOCATION;VALUE=URI;X-ADDRESS=fibre space 1319 Prince Street Alexandria VA 22314 United States;X-APPLE-RADIUS=500;X-TITLE=1319 Prince Street:geo:-77.0529897,38.8060683
END:VEVENT
BEGIN:VEVENT
DTSTART;TZID=America/New_York:20260120T190000
DTEND;TZID=America/New_York:20260120T210000
DTSTAMP:20260420T173202
CREATED:20251231T175914Z
LAST-MODIFIED:20260108T201109Z
UID:10002661-1768935600-1768942800@fibrespace.com
SUMMARY:Fair Isle Clinic
DESCRIPTION:Have you always wanted to try colorwork? Does stranded knitting intimidate you? Have you started on your Fair Isle journey but are unsure how to grow your skills? Choose from either beginner\, advanced beginner\, intermediate\, or advanced patterns to take the next step with your colorwork skills. This class will discuss setting yourself up for success in a fair isle pattern\, reading a chart\, picking colors for a successful project\, and adapting your knitting to accommodate gauge shifts. \nFor all classes\, we recommend printing a hard copy of your pattern and a roll of highlighter tape if possible. \nTwo 2-hour sessions  \nPick your project based on your skill level: \nBeginner: Prism Hat\n© Tin Can Knits\nSkills needed: \n\nKnitting and purling\nPrior experience knitting in the round (note: this project is not intended to be a first hat)\nDecreasing\n\nMaterials:\n\nYarn: We recommend Scout by Kelbourne Woolens or Ériu Elements for Triangles and Stripes hats:\n\nMC: 45 (55\, 65\, 75\, 85) yards\nCC: 45 (55\, 65\, 75\, 85) yards\n\n\nUS#4 (3.5mm) 16″ circular needle \nUS#6 (4.0mm) 16″ circular and double-pointed needles \nStitch markers\nHighlighter tape\nCopy of Prism Hat pattern\n\nPreparation:\nBefore class\, please cast on the hat to smaller needles\, finish ribbing\, and be ready to start the chart design. \n  \nAdvanced Beginner: Saandiloo\n© Gudrun Johnston\nSkills needed:\n\nKnitting in the round\nBasic Fair Isle\nChart reading\n\nMaterials:\n\nYarn: We recommend Jaimeson Spindrift\n\n115 yards (MC) You may want to have an extra ball of the main color just in case!\n45 yards (CC1)\n30 yards (CC2)\n30 yards (CC3)\n30 yards (CC4)\n\n\nUS#4 (3.5mm) 16″ circular needle\nUS#3 (3.25mm) 16″ circular needle and double-pointed needles\nStitch markers\nTapestry needle\nHighlighter tape\nCopy of Saandiloo pattern\n\nPreparation:\nBefore class\, please cast on the cowl to smaller needles\, finish ribbing\, and be ready to start the chart design. \n  \nIntermediate: Clairdelune Mitts\n© saskie&co\nSkills needed:\n\nKnitting in the round\nIncreases\, decreases\, knit\, purl\nPrior experience with double-pointed needles\, magic loop\,\, or other needle for small-circumference knitting techniques\nBasic Fair Isle skills\nFair Isle chart reading skills\n\nMaterials:\n\nYarn: we recommend WoolDreamers Mota. Note: Yardage is calculated based on a mistmatched pair and is listed for each colour.\n\nMC: 55 (70) 88 yards\nCC: 55 (70) 88 yards\n\n\nUS#3 (3.25 mm) double-pointed needles\, magic loop\, or other needle for small-circumference knitting techniques\nUS#4 (3.5 mm) double-pointed needles\, magic loop\, or other needle for small-circumference knitting techniques\nStitch markers\nTapestry needle\nHighlighter tape\nPattern for Clairedelune Mitts\n\nPreparation:\nBefore class\, please determine which size mitt you wish to knit. Please cast on the mitt to your preferred smaller circumference needles\, finish ribbing\, and be ready to start the chart design. \n  \nAdvanced: Bunty Mitts\n© Ella Austin\nSkills needed:\n\nKnitting in the round\nIncreases\, decreases\, knit\, purl\nPrior experience with double-pointed needles\, magic loop\, or other small-circumference knitting techniques\nBasic Fair Isle skills\nFair Isle chart reading skills\n\nMaterials:\n\nYarn: we recommend Jaimeson’s Spindrift\n\nMC (background) – 1 ball Spindrift\nCC1 (leaves and stems) – 1 ball Spindrift\nCC2 (flower heads) – 1 ball Spindrift\n\n\nUS#1 (2.25 mm) OR US#1.5 (2.5 mm) OR US#2 (2.75 mm) needles. Note: Choose needle size based on desired mitt size and gauge\nStitch markers\nTapestry needle\nPattern for Bunty Mitts\n\nPreparation:\nBefore class\, please determine which size mitt you wish to knit. Please cast on the mitt to your preferred smaller circumference needles\, finish ribbing\, and be ready to start the chart design. \n 
URL:https://fibrespace.com/event/fair-isle-clinic-2/
LOCATION:fibre space\, 1319 Prince Street\, Alexandria\, VA\, 22314\, United States
CATEGORIES:Classes
ATTACH;FMTTYPE=image/png:https://fibrespace.com/wp-content/uploads/2024/09/Fair-isle-clinic.png
GEO:38.8060683;-77.0529897
X-APPLE-STRUCTURED-LOCATION;VALUE=URI;X-ADDRESS=fibre space 1319 Prince Street Alexandria VA 22314 United States;X-APPLE-RADIUS=500;X-TITLE=1319 Prince Street:geo:-77.0529897,38.8060683
END:VEVENT
BEGIN:VEVENT
DTSTART;TZID=America/New_York:20260120T190000
DTEND;TZID=America/New_York:20260120T203000
DTSTAMP:20260420T173202
CREATED:20251211T000934Z
LAST-MODIFIED:20251213T211625Z
UID:10002619-1768935600-1768941000@fibrespace.com
SUMMARY:Introduction to Knitting
DESCRIPTION:Gain the foundations of the knitting craft and start your first scarf! \nThree 1.5-hour classes \nSkills needed:\nAbsolutely none! Our beginner class is ideal for those who are completely new to the craft or who haven’t knitted in many years and need a full refresher. Students must be 16 and older to enroll.. \nSkills learned:\n\n\nknit stitch \n\n\npurl stitch \n\n\ncast on \n\n\nbind off \n\n\n“tinking” or working back \n\n\ncommon knitting terms \n\n\nfull fibre education \n\n\nMaterials (all available at the shop for a 10% discount for your first class):\n\n\n250-300 yards worsted-weight wool\, wool blend\, or other natural fibre in a light color. We recommend Manos del Uruguay Alegria Grande or Ideal\, or Kelbourne Woolens Germantown. \n\n\nUS #8 (5mm) bamboo or wood needles in straight or circular. \n\n\nDarning needle or notion kit/set \n\n\n*We recommend not using metal needles\, cotton or acrylic fibres\, or very dark colors\, as they make the learning process more difficult. \nOptional reading materials (one of the following):\n\n\nChurchmouse Yarns The Learn-To-Knit Companion \n\n\nFirst Scarf \n\n\nKnit How by Pom Pom \n\n\nModern Knitting Daily Skillset \n\n\nPreparation:\nBe sure to come to the shop early enough to purchase your supplies and wind your yarn into balls before the start of class (suggested 15-30 minutes).
URL:https://fibrespace.com/event/introduction-to-knitting-jan20/
LOCATION:fibre space\, 1319 Prince Street\, Alexandria\, VA\, 22314\, United States
CATEGORIES:Classes
ATTACH;FMTTYPE=image/jpeg:https://fibrespace.com/wp-content/uploads/2025/04/knittinghands.jpg
GEO:38.8060683;-77.0529897
X-APPLE-STRUCTURED-LOCATION;VALUE=URI;X-ADDRESS=fibre space 1319 Prince Street Alexandria VA 22314 United States;X-APPLE-RADIUS=500;X-TITLE=1319 Prince Street:geo:-77.0529897,38.8060683
END:VEVENT
END:VCALENDAR