BEGIN:VCALENDAR
VERSION:2.0
PRODID:-//fibre space - ECPv6.15.20//NONSGML v1.0//EN
CALSCALE:GREGORIAN
METHOD:PUBLISH
X-WR-CALNAME:fibre space
X-ORIGINAL-URL:https://fibrespace.com
X-WR-CALDESC:Events for fibre space
REFRESH-INTERVAL;VALUE=DURATION:PT1H
X-Robots-Tag:noindex
X-PUBLISHED-TTL:PT1H
BEGIN:VTIMEZONE
TZID:America/New_York
BEGIN:DAYLIGHT
TZOFFSETFROM:-0500
TZOFFSETTO:-0400
TZNAME:EDT
DTSTART:20250309T070000
END:DAYLIGHT
BEGIN:STANDARD
TZOFFSETFROM:-0400
TZOFFSETTO:-0500
TZNAME:EST
DTSTART:20251102T060000
END:STANDARD
BEGIN:DAYLIGHT
TZOFFSETFROM:-0500
TZOFFSETTO:-0400
TZNAME:EDT
DTSTART:20260308T070000
END:DAYLIGHT
BEGIN:STANDARD
TZOFFSETFROM:-0400
TZOFFSETTO:-0500
TZNAME:EST
DTSTART:20261101T060000
END:STANDARD
BEGIN:DAYLIGHT
TZOFFSETFROM:-0500
TZOFFSETTO:-0400
TZNAME:EDT
DTSTART:20270314T070000
END:DAYLIGHT
BEGIN:STANDARD
TZOFFSETFROM:-0400
TZOFFSETTO:-0500
TZNAME:EST
DTSTART:20271107T060000
END:STANDARD
END:VTIMEZONE
BEGIN:VEVENT
DTSTART;TZID=America/New_York:20260121T190000
DTEND;TZID=America/New_York:20260121T210000
DTSTAMP:20260420T190508
CREATED:20251217T001856Z
LAST-MODIFIED:20251217T001856Z
UID:143278-1769022000-1769029200@fibrespace.com
SUMMARY:Tunisian Crochet Clinic
DESCRIPTION:Explore the magic of Tunisian Crochet with this introductory class. Learn easy techniques to create a beautiful with two pattern options: the Ada Shawl for a thicker\, warmer design\, and the Harmony Shawl perfect for lighter\, warmer-weather wear. \n2 two-hour sessions  \nPick From Our Suggested Patterns: \n Ada Shawl\n \n Skills needed: \n\nChaining\nSingle Crochet\n\nSkills learned: \n\nTunisian Simple Stitch (Tss)\, \nIncreasing in Tss\nColorwork in Tss \nAdjusting tension for even edges\n\nMaterials: \n\nAran or Bulky weight yarn. \n\nFor Ada Shawl 2 colors – Color A: 215 yards\, Color B: 450 yards. \nFor Ada Shawl XL – Color A: 200 yards\, Color B: 230 yards\, Color C: 330 yards. Yarn suggestions: Manos del Uruguay Cardo\, De Rerum Natura Cyrano\, Woolfolk Luft\n\n\nSize US N/10.00mm Tunisian crochet hook\, with a 32-to-40-inch cable. (Note that hook size is a suggestion; you may want to size down to an US M/9.00mm depending on your gauge)\nScissors\, darning needle\nLocking stitch markers\nA copy of Ada Shawl Pattern\n\nPreparation: \nRead through the entire pattern. Select which size shawl you want to make. Bring all materials to class.  \n  \nHarmony Shawl\n© Aklori Designs\nSkills needed: \n\nChaining\nSingle Crochet\n\nSkills learned: \n\nTunisian Simple Stitch (Tss)\nTunisian Knit Stitch(Tks) \nIncreasing in Tss\nAdjusting tension for even edges\n\nMaterials:  \n\n650 yds of sport weight yarn. We recommend De Rerum Natura Ulysse\, Di Gilpin Lalland or WoolDreamers Cautiva \nSize US H/5.00mm Tunisian crochet hook\, with a 32-to-40-inch cable. (Note that hook size is a suggestion; you may want to size up or down depending on your gauge)\nScissors\, darning needle\nLocking stitch markers\nA copy of Harmony Shawl Pattern\n\nPreparation: \nRead through the entire pattern. Select which size shawl you want to make. Bring all materials to class.  \n 
URL:https://fibrespace.com/event/tunisian-crochet-clinic-2/
LOCATION:fibre space\, 1319 Prince Street\, Alexandria\, VA\, 22314\, United States
CATEGORIES:Classes
ATTACH;FMTTYPE=image/png:https://fibrespace.com/wp-content/uploads/2017/02/c8-tunisian-crochet-basics.png
GEO:38.8060683;-77.0529897
X-APPLE-STRUCTURED-LOCATION;VALUE=URI;X-ADDRESS=fibre space 1319 Prince Street Alexandria VA 22314 United States;X-APPLE-RADIUS=500;X-TITLE=1319 Prince Street:geo:-77.0529897,38.8060683
END:VEVENT
END:VCALENDAR