BEGIN:VCALENDAR
VERSION:2.0
PRODID:-//fibre space - ECPv6.15.20//NONSGML v1.0//EN
CALSCALE:GREGORIAN
METHOD:PUBLISH
X-WR-CALNAME:fibre space
X-ORIGINAL-URL:https://fibrespace.com
X-WR-CALDESC:Events for fibre space
REFRESH-INTERVAL;VALUE=DURATION:PT1H
X-Robots-Tag:noindex
X-PUBLISHED-TTL:PT1H
BEGIN:VTIMEZONE
TZID:America/New_York
BEGIN:DAYLIGHT
TZOFFSETFROM:-0500
TZOFFSETTO:-0400
TZNAME:EDT
DTSTART:20250309T070000
END:DAYLIGHT
BEGIN:STANDARD
TZOFFSETFROM:-0400
TZOFFSETTO:-0500
TZNAME:EST
DTSTART:20251102T060000
END:STANDARD
BEGIN:DAYLIGHT
TZOFFSETFROM:-0500
TZOFFSETTO:-0400
TZNAME:EDT
DTSTART:20260308T070000
END:DAYLIGHT
BEGIN:STANDARD
TZOFFSETFROM:-0400
TZOFFSETTO:-0500
TZNAME:EST
DTSTART:20261101T060000
END:STANDARD
BEGIN:DAYLIGHT
TZOFFSETFROM:-0500
TZOFFSETTO:-0400
TZNAME:EDT
DTSTART:20270314T070000
END:DAYLIGHT
BEGIN:STANDARD
TZOFFSETFROM:-0400
TZOFFSETTO:-0500
TZNAME:EST
DTSTART:20271107T060000
END:STANDARD
END:VTIMEZONE
BEGIN:VEVENT
DTSTART;TZID=America/New_York:20260201T123000
DTEND;TZID=America/New_York:20260201T140000
DTSTAMP:20260420T172825
CREATED:20251231T231150Z
LAST-MODIFIED:20260105T221331Z
UID:143494-1769949000-1769954400@fibrespace.com
SUMMARY:Spinning 101
DESCRIPTION:Learn to spin yarn on a drop spindle. Find out why hand spun yarn is so special and learn how to make your own yarn! Within three weeks you will be spinning and plying your own yarn on an ancient\, yet portable form of spinning tool – the drop spindle. You will learn to make yarn suitable for knitting\, crochet\, weaving\, or any fibre craft. \nThree 1.5 hour classes \nSkills Learned:\n\ndrafting\nplying\nfinishing your yarn\nfibres and their properties\n\nMaterials: \n\ntop whorl spindle (70mm 1.25 oz or 1 oz is recommended)\nclean wool spinning fibre (Bluefaced Leicester or BFL) or Corriedale top are recommended. Other medium-fine fibers (ex. Polwarth\, Romney) would be OK. Merino is finer and has a shorter staple\, so it is not recommended for starting.)\n\nOptional Materials:\nRespect the Spindle or Start Spinning
URL:https://fibrespace.com/event/spinning-101/
LOCATION:fibre space\, 1319 Prince Street\, Alexandria\, VA\, 22314\, United States
CATEGORIES:Classes
ATTACH;FMTTYPE=image/jpeg:https://fibrespace.com/wp-content/uploads/2019/03/kacbiduo7nhsbpohukku.jpg
GEO:38.8060683;-77.0529897
X-APPLE-STRUCTURED-LOCATION;VALUE=URI;X-ADDRESS=fibre space 1319 Prince Street Alexandria VA 22314 United States;X-APPLE-RADIUS=500;X-TITLE=1319 Prince Street:geo:-77.0529897,38.8060683
END:VEVENT
END:VCALENDAR