BEGIN:VCALENDAR
VERSION:2.0
PRODID:-//fibre space - ECPv6.15.20//NONSGML v1.0//EN
CALSCALE:GREGORIAN
METHOD:PUBLISH
X-WR-CALNAME:fibre space
X-ORIGINAL-URL:https://fibrespace.com
X-WR-CALDESC:Events for fibre space
REFRESH-INTERVAL;VALUE=DURATION:PT1H
X-Robots-Tag:noindex
X-PUBLISHED-TTL:PT1H
BEGIN:VTIMEZONE
TZID:America/New_York
BEGIN:DAYLIGHT
TZOFFSETFROM:-0500
TZOFFSETTO:-0400
TZNAME:EDT
DTSTART:20250309T070000
END:DAYLIGHT
BEGIN:STANDARD
TZOFFSETFROM:-0400
TZOFFSETTO:-0500
TZNAME:EST
DTSTART:20251102T060000
END:STANDARD
BEGIN:DAYLIGHT
TZOFFSETFROM:-0500
TZOFFSETTO:-0400
TZNAME:EDT
DTSTART:20260308T070000
END:DAYLIGHT
BEGIN:STANDARD
TZOFFSETFROM:-0400
TZOFFSETTO:-0500
TZNAME:EST
DTSTART:20261101T060000
END:STANDARD
BEGIN:DAYLIGHT
TZOFFSETFROM:-0500
TZOFFSETTO:-0400
TZNAME:EDT
DTSTART:20270314T070000
END:DAYLIGHT
BEGIN:STANDARD
TZOFFSETFROM:-0400
TZOFFSETTO:-0500
TZNAME:EST
DTSTART:20271107T060000
END:STANDARD
END:VTIMEZONE
BEGIN:VEVENT
DTSTART;TZID=America/New_York:20260204T190000
DTEND;TZID=America/New_York:20260204T203000
DTSTAMP:20260420T172851
CREATED:20251222T154432Z
LAST-MODIFIED:20251222T154432Z
UID:143347-1770231600-1770237000@fibrespace.com
SUMMARY:Skill Builder: Pattern Reading for Crocheters
DESCRIPTION:Are you new to crochet but don’t know how to move into more complex designs? Join us for this skill builder and learn to understand the written language and structure of crochet patterns\, gaining the confidence to start any project. \nOne hour and a half session \nSkills needed:\n\nBasic crochet skills\n\nSkills learned:\n\nLearn to interpret crochet symbols\nReading crochet charts\n\nMaterials and preparation:\n\nOptional: bring a crochet pattern you have questions about
URL:https://fibrespace.com/event/skill-builder-pattern-reading-for-crocheters/
LOCATION:fibre space\, 1319 Prince Street\, Alexandria\, VA\, 22314\, United States
CATEGORIES:Classes
ATTACH;FMTTYPE=image/jpeg:https://fibrespace.com/wp-content/uploads/2012/12/Reading-Crochet-Charts-and-Patterns-1.jpg
GEO:38.8060683;-77.0529897
X-APPLE-STRUCTURED-LOCATION;VALUE=URI;X-ADDRESS=fibre space 1319 Prince Street Alexandria VA 22314 United States;X-APPLE-RADIUS=500;X-TITLE=1319 Prince Street:geo:-77.0529897,38.8060683
END:VEVENT
END:VCALENDAR