BEGIN:VCALENDAR
VERSION:2.0
PRODID:-//fibre space - ECPv6.15.20//NONSGML v1.0//EN
CALSCALE:GREGORIAN
METHOD:PUBLISH
X-WR-CALNAME:fibre space
X-ORIGINAL-URL:https://fibrespace.com
X-WR-CALDESC:Events for fibre space
REFRESH-INTERVAL;VALUE=DURATION:PT1H
X-Robots-Tag:noindex
X-PUBLISHED-TTL:PT1H
BEGIN:VTIMEZONE
TZID:America/New_York
BEGIN:DAYLIGHT
TZOFFSETFROM:-0500
TZOFFSETTO:-0400
TZNAME:EDT
DTSTART:20260308T070000
END:DAYLIGHT
BEGIN:STANDARD
TZOFFSETFROM:-0400
TZOFFSETTO:-0500
TZNAME:EST
DTSTART:20261101T060000
END:STANDARD
BEGIN:DAYLIGHT
TZOFFSETFROM:-0500
TZOFFSETTO:-0400
TZNAME:EDT
DTSTART:20270314T070000
END:DAYLIGHT
BEGIN:STANDARD
TZOFFSETFROM:-0400
TZOFFSETTO:-0500
TZNAME:EST
DTSTART:20271107T060000
END:STANDARD
BEGIN:DAYLIGHT
TZOFFSETFROM:-0500
TZOFFSETTO:-0400
TZNAME:EDT
DTSTART:20280312T070000
END:DAYLIGHT
BEGIN:STANDARD
TZOFFSETFROM:-0400
TZOFFSETTO:-0500
TZNAME:EST
DTSTART:20281105T060000
END:STANDARD
END:VTIMEZONE
BEGIN:VEVENT
DTSTART;TZID=America/New_York:20271212T160000
DTEND;TZID=America/New_York:20271212T180000
DTSTAMP:20260420T190404
CREATED:20250606T202802Z
LAST-MODIFIED:20250606T220540Z
UID:10001915-1828627200-1828634400@fibrespace.com
SUMMARY:Cosmic Craft Night
DESCRIPTION:Get ready! We’ve launched Cosmic Craft Nite! This queer craft meet up will be held the second Sunday of every month beginning in July\, from 4-6 pm.  Bring your current WIP and gather in our lounge space to stitch and connect in a safe space for girls\, gays\, and theys!
URL:https://fibrespace.com/event/cosmic-craft-night/2027-12-12/
CATEGORIES:Community Events
ATTACH;FMTTYPE=image/png:https://fibrespace.com/wp-content/uploads/2025/06/Cosmic-Craft-Nite-Instagram-Post.png
END:VEVENT
END:VCALENDAR