BEGIN:VCALENDAR
VERSION:2.0
PRODID:-//fibre space - ECPv6.15.20//NONSGML v1.0//EN
CALSCALE:GREGORIAN
METHOD:PUBLISH
X-WR-CALNAME:fibre space
X-ORIGINAL-URL:https://fibrespace.com
X-WR-CALDESC:Events for fibre space
REFRESH-INTERVAL;VALUE=DURATION:PT1H
X-Robots-Tag:noindex
X-PUBLISHED-TTL:PT1H
BEGIN:VTIMEZONE
TZID:America/New_York
BEGIN:DAYLIGHT
TZOFFSETFROM:-0500
TZOFFSETTO:-0400
TZNAME:EDT
DTSTART:20250309T070000
END:DAYLIGHT
BEGIN:STANDARD
TZOFFSETFROM:-0400
TZOFFSETTO:-0500
TZNAME:EST
DTSTART:20251102T060000
END:STANDARD
BEGIN:DAYLIGHT
TZOFFSETFROM:-0500
TZOFFSETTO:-0400
TZNAME:EDT
DTSTART:20260308T070000
END:DAYLIGHT
BEGIN:STANDARD
TZOFFSETFROM:-0400
TZOFFSETTO:-0500
TZNAME:EST
DTSTART:20261101T060000
END:STANDARD
BEGIN:DAYLIGHT
TZOFFSETFROM:-0500
TZOFFSETTO:-0400
TZNAME:EDT
DTSTART:20270314T070000
END:DAYLIGHT
BEGIN:STANDARD
TZOFFSETFROM:-0400
TZOFFSETTO:-0500
TZNAME:EST
DTSTART:20271107T060000
END:STANDARD
END:VTIMEZONE
BEGIN:VEVENT
DTSTART;VALUE=DATE:20260320
DTEND;VALUE=DATE:20260323
DTSTAMP:20260425T212319
CREATED:20260305T200951Z
LAST-MODIFIED:20260305T200951Z
UID:144668-1773964800-1774223999@fibrespace.com
SUMMARY:Old Town Boutiques Bloom Together\, Friday\, March 20 - Sunday\, March 22!
DESCRIPTION:You are invited to explore our Old Town\, shop our boutiques\, and enter to win big prizes at Alexandria’s Bloom Together event beginning Friday\, March 20\, through Sunday\, March 22. Get the first glance at spring collections\, get motivated with a little friendly competition\, and spend the weekend strolling\, shopping\, and soaking up spring in Old Town.\nHere’s how it works: \n\nGrab a passport from one of the participating Old Town boutiques\, and shop Old Town\, collecting stamps from each shop from Friday\, March 20 through Sunday\, March 22.\nVisit half of the participating boutiques and be entered for a chance to win a $500 gift card to the business of your choosing.\nVisit ALL of the participating boutiques and be entered for the grand prize of a $1\,000 gift card to the boutique of your choosing.\n\nSo grab your passport\, shop your way through the neighborhood\, and enter for a chance to win a $500 or even $1\,000 gift card to the boutique (or boutiques) of your choice!\n\nCheck out more on socials with #BloomTogether #OldTownBoutiques #ShopLocal #SpringInOldTown.
URL:https://fibrespace.com/event/bloom-together-2026/
LOCATION:fibre space\, 1319 Prince Street\, Alexandria\, VA\, 22314\, United States
CATEGORIES:Community Events
ATTACH;FMTTYPE=image/webp:https://fibrespace.com/wp-content/uploads/2026/03/BloomTogether_Social-scaled.webp
GEO:38.8060683;-77.0529897
X-APPLE-STRUCTURED-LOCATION;VALUE=URI;X-ADDRESS=fibre space 1319 Prince Street Alexandria VA 22314 United States;X-APPLE-RADIUS=500;X-TITLE=1319 Prince Street:geo:-77.0529897,38.8060683
END:VEVENT
END:VCALENDAR