BEGIN:VCALENDAR
VERSION:2.0
PRODID:-//fibre space - ECPv6.15.20//NONSGML v1.0//EN
CALSCALE:GREGORIAN
METHOD:PUBLISH
X-WR-CALNAME:fibre space
X-ORIGINAL-URL:https://fibrespace.com
X-WR-CALDESC:Events for fibre space
REFRESH-INTERVAL;VALUE=DURATION:PT1H
X-Robots-Tag:noindex
X-PUBLISHED-TTL:PT1H
BEGIN:VTIMEZONE
TZID:America/New_York
BEGIN:DAYLIGHT
TZOFFSETFROM:-0500
TZOFFSETTO:-0400
TZNAME:EDT
DTSTART:20250309T070000
END:DAYLIGHT
BEGIN:STANDARD
TZOFFSETFROM:-0400
TZOFFSETTO:-0500
TZNAME:EST
DTSTART:20251102T060000
END:STANDARD
BEGIN:DAYLIGHT
TZOFFSETFROM:-0500
TZOFFSETTO:-0400
TZNAME:EDT
DTSTART:20260308T070000
END:DAYLIGHT
BEGIN:STANDARD
TZOFFSETFROM:-0400
TZOFFSETTO:-0500
TZNAME:EST
DTSTART:20261101T060000
END:STANDARD
BEGIN:DAYLIGHT
TZOFFSETFROM:-0500
TZOFFSETTO:-0400
TZNAME:EDT
DTSTART:20270314T070000
END:DAYLIGHT
BEGIN:STANDARD
TZOFFSETFROM:-0400
TZOFFSETTO:-0500
TZNAME:EST
DTSTART:20271107T060000
END:STANDARD
END:VTIMEZONE
BEGIN:VEVENT
DTSTART;TZID=America/New_York:20260202T180000
DTEND;TZID=America/New_York:20260202T210000
DTSTAMP:20260420T172946
CREATED:20251222T154907Z
LAST-MODIFIED:20260126T140512Z
UID:142746-1770055200-1770066000@fibrespace.com
SUMMARY:Beyond Basics: Cabled Scarf
DESCRIPTION:This quick crash course will show you how to cable like a pro\, while starting a cabled scarf. \nOne three hour class (make up session for snow day) \nSkills learned:\n\n\nRefresh your knowledge of the rib stitch \n\n\nCreate reversible cables \n\n\nRead cable charts \n\n\nMaterials:\n\n\nApproximately 440 – 660 yards of worsted-weight yarn. We recommend Kelbourne Woolens Germantown or Rosários 4 Terra Moulinet \n\n\nUS#7 (4.5 mm) needles \n\n\nCable needle \n\n\nCopy of Building Blocks: Scarf C \n\n\nPreparation:\nPlease arrive to class with the pattern for Scarf C – Cabled Scarf started. Cast on 40 stitches. Work six rows of garter stitch\, then complete rows 1 and 2:  \n\n\nRow 1: Sl1\, K3\, *P2\, K4; rep from * to 6 sts remaining\, k6. Repeat to end. \n\n\nRow 2: Sl1\, K3\, *K2\, P4; rep from * to 6 sts remaining\, k6. Repeat to end.
URL:https://fibrespace.com/event/beyond-basics-cabled-scarf/
LOCATION:fibre space\, 1319 Prince Street\, Alexandria\, VA\, 22314\, United States
CATEGORIES:Classes
ATTACH;FMTTYPE=image/jpeg:https://fibrespace.com/wp-content/uploads/2018/10/KelbourneGermantown7575_sm-1.jpg
GEO:38.8060683;-77.0529897
X-APPLE-STRUCTURED-LOCATION;VALUE=URI;X-ADDRESS=fibre space 1319 Prince Street Alexandria VA 22314 United States;X-APPLE-RADIUS=500;X-TITLE=1319 Prince Street:geo:-77.0529897,38.8060683
END:VEVENT
END:VCALENDAR